BEGIN:VCALENDAR
VERSION:2.0
PRODID:-//Greater Philadelphia Association of REALTORS - ECPv6.15.20//NONSGML v1.0//EN
CALSCALE:GREGORIAN
METHOD:PUBLISH
X-WR-CALNAME:Greater Philadelphia Association of REALTORS
X-ORIGINAL-URL:https://www.gpar.org
X-WR-CALDESC:Events for Greater Philadelphia Association of REALTORS
REFRESH-INTERVAL;VALUE=DURATION:PT1H
X-Robots-Tag:noindex
X-PUBLISHED-TTL:PT1H
BEGIN:VTIMEZONE
TZID:America/New_York
BEGIN:DAYLIGHT
TZOFFSETFROM:-0500
TZOFFSETTO:-0400
TZNAME:EDT
DTSTART:20250309T070000
END:DAYLIGHT
BEGIN:STANDARD
TZOFFSETFROM:-0400
TZOFFSETTO:-0500
TZNAME:EST
DTSTART:20251102T060000
END:STANDARD
BEGIN:DAYLIGHT
TZOFFSETFROM:-0500
TZOFFSETTO:-0400
TZNAME:EDT
DTSTART:20260308T070000
END:DAYLIGHT
BEGIN:STANDARD
TZOFFSETFROM:-0400
TZOFFSETTO:-0500
TZNAME:EST
DTSTART:20261101T060000
END:STANDARD
BEGIN:DAYLIGHT
TZOFFSETFROM:-0500
TZOFFSETTO:-0400
TZNAME:EDT
DTSTART:20270314T070000
END:DAYLIGHT
BEGIN:STANDARD
TZOFFSETFROM:-0400
TZOFFSETTO:-0500
TZNAME:EST
DTSTART:20271107T060000
END:STANDARD
END:VTIMEZONE
BEGIN:VEVENT
DTSTART;TZID=America/New_York:20260423T090000
DTEND;TZID=America/New_York:20260423T153000
DTSTAMP:20260425T081828
CREATED:20260303T135618Z
LAST-MODIFIED:20260303T135644Z
UID:4237-1776934800-1776958200@www.gpar.org
SUMMARY:2026 Housing Equality Conference
DESCRIPTION:Liberty\, Justice\, and Housing for All: Advancing Fair Housing in Pennsylvania’s 250th year\n\n\n\n\nJoin the Pennsylvania Human Relations Commission for a one-day dynamic and collaborative event bringing together key housing stakeholders including community leaders\, housing professionals\, social service providers\, fair housing partners\, and others. \nThe 2026 PHRC Housing Equality Conference will explore the critical issues surrounding housing opportunity through engaging sessions and workshops and will feature a keynote address by Philadelphia Housing Authority Chair Lynette M. Brown-Sow and President and CEO Kelvin Jeremiah. \nReserve your free ticket for this event today!
URL:https://www.gpar.org/event/2026-housing-equality-conference/
LOCATION:DoubleTree by Hilton Philadelphia Center City\, 237 S. Broad Street\, Philadelphia\, PA\, 19107\, United States
END:VEVENT
END:VCALENDAR